BEGIN:VCALENDAR
VERSION:2.0
PRODID:-//Sabre//Sabre VObject 4.5.8//EN
CALSCALE:GREGORIAN
BEGIN:VEVENT
UID:sabre-vobject-22dd0f02-9b47-4f6f-9908-a7e35264ddc1
DTSTAMP:20260420T113727Z
SUMMARY:Ink Masters Tatoo Expo 
DESCRIPTION:
X-ALT-DESC:FMTTYPE=text/html:<!DOCTYPE HTML PUBLIC "-//W3C//DTD HTML 3.2//E
 N"><HTML></HTML>
CREATED;TZID=America/Denver:20250527T112422
URL;VALUE=URI:https://flatheadcounty.gov/county-calendar/calendar-event-det
 ail/ink-masters-tatoo-expo
DTSTART;TZID=America/Denver:20250530T110000
DTEND;TZID=America/Denver:20250601T220000
SEQUENCE:0
END:VEVENT
END:VCALENDAR
