BEGIN:VCALENDAR
VERSION:2.0
PRODID:-//Sabre//Sabre VObject 4.5.8//EN
CALSCALE:GREGORIAN
BEGIN:VEVENT
UID:sabre-vobject-06c0df82-0190-486b-aafa-a1197569529f
DTSTAMP:20260420T113751Z
SUMMARY:Spring Into Safety 
DESCRIPTION:
X-ALT-DESC:FMTTYPE=text/html:<!DOCTYPE HTML PUBLIC "-//W3C//DTD HTML 3.2//E
 N"><HTML></HTML>
CREATED;TZID=America/Denver:20250527T112912
URL;VALUE=URI:https://flatheadcounty.gov/county-calendar/calendar-event-det
 ail/spring-safety
DTSTART;TZID=America/Denver:20250531T110000
DTEND;TZID=America/Denver:20250531T150000
SEQUENCE:0
END:VEVENT
END:VCALENDAR
