BEGIN:VCALENDAR
VERSION:2.0
PRODID:-//Sabre//Sabre VObject 4.5.8//EN
CALSCALE:GREGORIAN
BEGIN:VEVENT
UID:sabre-vobject-f20fe49d-fa1a-417b-9103-7b4ec80aa4c4
DTSTAMP:20260420T113748Z
SUMMARY:EMS Administrative Board Meeting
DESCRIPTION:Meeting of the Flathead County Emergency Medical Services Admin
 istrative Board. Meeting will be held in the EOC room at OES. 625 Timberwo
 lf Parkway\, Kalispell MT 59901.\n\nThis meeting was moved from June 10th 
 to June 3rd.\n\nPlease note: Agenda will be posted prior to the meeting at
  OES and online. Agenda is subject to change. Agenda will be posted no lat
 er than 48 hours prior to the meeting.&nbsp\;\n
X-ALT-DESC:FMTTYPE=text/html:<!DOCTYPE HTML PUBLIC "-//W3C//DTD HTML 3.2//E
 N"><HTML><p>Meeting of the Flathead County Emergency Medical Services Admi
 nistrative Board. Meeting will be held in the EOC room at OES. 625 Timberw
 olf Parkway\, Kalispell MT 59901.</p>\n\n<p>This meeting was moved from Ju
 ne 10th to June 3rd.</p>\n\n<p>Please note: Agenda will be posted prior to
  the meeting at OES and online. Agenda is subject to change. Agenda will b
 e posted no later than 48 hours prior to the meeting.&nbsp\;</p>\n</HTML>
CREATED;TZID=America/Denver:20250527T220344
URL;VALUE=URI:https://flatheadcounty.gov/county-calendar/calendar-event-det
 ail/ems-administrative-board-meeting-15
DTSTART;TZID=America/Denver:20250603T130000
DTEND;TZID=America/Denver:20250603T150000
SEQUENCE:0
END:VEVENT
END:VCALENDAR
