BEGIN:VCALENDAR
VERSION:2.0
PRODID:-//Sabre//Sabre VObject 4.5.8//EN
CALSCALE:GREGORIAN
BEGIN:VEVENT
UID:sabre-vobject-1a7c7450-ae43-4184-8792-b809e1087d73
DTSTAMP:20260420T115411Z
SUMMARY:Local Emergency Planning Committee (LEPC) Meeting
DESCRIPTION:Quarterly meeting of the Flathead County Local Emergency Planni
 ng Committee. The meeting will be held in the EOC room at OES. 625 Timberw
 olf Parkway\, Kalispell MT 59901.\n\nQuarterly meeting of the Flathead Cou
 nty Local Emergency Planning Committee. The meeting will be held in the EO
 C room at OES. 625 Timberwolf Parkway\, Kalispell MT 59901.\n\nPlease Note
 : The agenda will be posted online no later than 48 hours prior to the mee
 ting. &nbsp\;\n\nAgenda items are subject to change without notice\n
X-ALT-DESC:FMTTYPE=text/html:<!DOCTYPE HTML PUBLIC "-//W3C//DTD HTML 3.2//E
 N"><HTML><p style="margin-bottom:11px"><span style="font-size:12pt"><span 
 style="line-height:115%"><span style="font-family:Aptos\,sans-serif">Quart
 erly meeting of the Flathead County Local Emergency Planning Committee. Th
 e meeting will be held in the EOC room at OES. 625 Timberwolf Parkway\, Ka
 lispell MT 59901.</span></span></span></p>\n\n<p style="margin-bottom:11px
 "><span style="font-size:12pt"><span style="line-height:115%"><span style=
 "font-family:Aptos\,sans-serif">Quarterly meeting of the Flathead County L
 ocal Emergency Planning Committee. The meeting will be held in the EOC roo
 m at OES. 625 Timberwolf Parkway\, Kalispell MT 59901.</span></span></span
 ></p>\n\n<p style="margin-bottom:11px"><span style="font-size:12pt"><span 
 style="line-height:115%"><span style="font-family:Aptos\,sans-serif">Pleas
 e Note: The agenda will be posted online no later than 48 hours prior to t
 he meeting. &nbsp\;</span></span></span></p>\n\n<p style="margin-bottom:11
 px"><span style="font-size:12pt"><span style="line-height:115%"><span styl
 e="font-family:Aptos\,sans-serif">Agenda items are subject to change witho
 ut notice</span></span></span></p>\n</HTML>
CREATED;TZID=America/Denver:20250528T153430
URL;VALUE=URI:https://flatheadcounty.gov/county-calendar/calendar-event-det
 ail/lepc-meeting-june-4th-2025
DTSTART;TZID=America/Denver:20250604T133000
DTEND;TZID=America/Denver:20250604T150000
SEQUENCE:0
END:VEVENT
END:VCALENDAR
