BEGIN:VCALENDAR
VERSION:2.0
PRODID:-//Sabre//Sabre VObject 4.5.8//EN
CALSCALE:GREGORIAN
BEGIN:VEVENT
UID:sabre-vobject-427ac12e-b1dc-4d93-9ec8-9280edd06484
DTSTAMP:20260420T113916Z
SUMMARY:Weed/Parks & Recreation Board Meeting
DESCRIPTION:
X-ALT-DESC:FMTTYPE=text/html:<!DOCTYPE HTML PUBLIC "-//W3C//DTD HTML 3.2//E
 N"><HTML></HTML>
CREATED;TZID=America/Denver:20250529T114033
URL;VALUE=URI:https://flatheadcounty.gov/county-calendar/calendar-event-det
 ail/weedparks-and-recreation-board-meeting-20
DTSTART;TZID=America/Denver:20250602T083000
DTEND;TZID=America/Denver:20250602T103000
SEQUENCE:0
END:VEVENT
END:VCALENDAR
