BEGIN:VCALENDAR
VERSION:2.0
PRODID:-//Sabre//Sabre VObject 4.5.8//EN
CALSCALE:GREGORIAN
BEGIN:VEVENT
UID:sabre-vobject-6722f0fc-7427-4d36-802b-edbb845f05e5
DTSTAMP:20260420T114151Z
SUMMARY:Fight Fraud Friday
DESCRIPTION:Stop in for lunch and join us in the Dining Room between 11:30 
 am-1:00 pm on June 6th for information about Medicare fraud prevention. To
 pic: Actions Everyone can Take to detect\, prevent\, and report suspected 
 Medicare fraud. For more information please call 406-758-2471.\n
X-ALT-DESC:FMTTYPE=text/html:<!DOCTYPE HTML PUBLIC "-//W3C//DTD HTML 3.2//E
 N"><HTML><p>Stop in for lunch and join us in the Dining Room between 11:30
  am-1:00 pm on June 6th for information about Medicare fraud prevention. T
 opic: Actions Everyone can Take to detect\, prevent\, and report suspected
  Medicare fraud. For more information please call 406-758-2471.</p>\n</HTM
 L>
CREATED;TZID=America/Denver:20250602T132101
URL;VALUE=URI:https://flatheadcounty.gov/county-calendar/calendar-event-det
 ail/fight-fraud-friday-17
DTSTART;TZID=America/Denver:20250606T113000
DTEND;TZID=America/Denver:20250606T130000
SEQUENCE:0
END:VEVENT
END:VCALENDAR
