BEGIN:VCALENDAR
VERSION:2.0
PRODID:-//Sabre//Sabre VObject 4.5.8//EN
CALSCALE:GREGORIAN
BEGIN:VEVENT
UID:sabre-vobject-bc9aca70-402a-4e6f-92a2-6bd90922e578
DTSTAMP:20260420T114150Z
SUMMARY:Medicare 101 Class
DESCRIPTION:This seminar will help you gain a better understanding of Medic
 are\, whether you&#39\;re currently on Medicare\, you ae about to become e
 ligible or you&#39\;re a caregiver for someone who is. Held the fourth of 
 Tuesday of every month from 1:00-3:00 pm. Please call 406-758-5730 to rese
 rve your seat.&nbsp\;\n
X-ALT-DESC:FMTTYPE=text/html:<!DOCTYPE HTML PUBLIC "-//W3C//DTD HTML 3.2//E
 N"><HTML><p>This seminar will help you gain a better understanding of Medi
 care\, whether you&#39\;re currently on Medicare\, you ae about to become 
 eligible or you&#39\;re a caregiver for someone who is. Held the fourth of
  Tuesday of every month from 1:00-3:00 pm. Please call 406-758-5730 to res
 erve your seat.&nbsp\;</p>\n</HTML>
CREATED;TZID=America/Denver:20250602T133123
URL;VALUE=URI:https://flatheadcounty.gov/county-calendar/calendar-event-det
 ail/medicare-101-class-5
DTSTART;TZID=America/Denver:20250624T130000
DTEND;TZID=America/Denver:20250624T150000
SEQUENCE:0
END:VEVENT
END:VCALENDAR
