BEGIN:VCALENDAR
VERSION:2.0
PRODID:-//Sabre//Sabre VObject 4.5.8//EN
CALSCALE:GREGORIAN
BEGIN:VEVENT
UID:sabre-vobject-036734ad-0131-4a75-87ec-492e38b375a9
DTSTAMP:20260422T093100Z
SUMMARY:Municipal Candidate Filing Deadline
DESCRIPTION:
X-ALT-DESC:FMTTYPE=text/html:<!DOCTYPE HTML PUBLIC "-//W3C//DTD HTML 3.2//E
 N"><HTML></HTML>
CREATED;TZID=America/Denver:20250603T111238
URL;VALUE=URI:https://flatheadcounty.gov/county-calendar/calendar-event-det
 ail/municipal-candidate-filing-deadline
DTSTART;TZID=America/Denver:20250611T170000
DTEND;TZID=America/Denver:20250611T170000
SEQUENCE:0
END:VEVENT
END:VCALENDAR
