BEGIN:VCALENDAR
VERSION:2.0
PRODID:-//Sabre//Sabre VObject 4.5.8//EN
CALSCALE:GREGORIAN
BEGIN:VEVENT
UID:sabre-vobject-3a2ee4f6-350c-44d7-bf00-fb55b1055b7d
DTSTAMP:20260420T114120Z
SUMMARY:CANCELED West Valley Land Use Advisory Committee
DESCRIPTION:
X-ALT-DESC:FMTTYPE=text/html:<!DOCTYPE HTML PUBLIC "-//W3C//DTD HTML 3.2//E
 N"><HTML></HTML>
CREATED;TZID=America/Denver:20250718T151304
URL;VALUE=URI:https://flatheadcounty.gov/county-calendar/calendar-event-det
 ail/canceled-west-valley-land-use-advisory-committee
DTSTART;TZID=America/Denver:20250722T180000
DTEND;TZID=America/Denver:20250722T200000
SEQUENCE:0
END:VEVENT
END:VCALENDAR
