BEGIN:VCALENDAR
VERSION:2.0
PRODID:-//Sabre//Sabre VObject 4.5.8//EN
CALSCALE:GREGORIAN
BEGIN:VEVENT
UID:sabre-vobject-ccd2a389-6c13-439c-8683-bd63231ea997
DTSTAMP:20260420T114219Z
SUMMARY:Bigfork Land Use Advisory Committee Meeting
DESCRIPTION:
X-ALT-DESC:FMTTYPE=text/html:<!DOCTYPE HTML PUBLIC "-//W3C//DTD HTML 3.2//E
 N"><HTML></HTML>
CREATED;TZID=America/Denver:20250721T124123
URL;VALUE=URI:https://flatheadcounty.gov/county-calendar/calendar-event-det
 ail/bigfork-land-use-advisory-committee-meeting-4
DTSTART;TZID=America/Denver:20250731T160000
DTEND;TZID=America/Denver:20250731T180000
SEQUENCE:0
END:VEVENT
END:VCALENDAR
