BEGIN:VCALENDAR
VERSION:2.0
PRODID:-//Sabre//Sabre VObject 4.5.8//EN
CALSCALE:GREGORIAN
BEGIN:VEVENT
UID:sabre-vobject-4d201df0-7700-465e-a0b9-b5cd048541d2
DTSTAMP:20260420T115754Z
SUMMARY:Ashley Lake Land Use Advisory Committee Meeting
DESCRIPTION:
X-ALT-DESC:FMTTYPE=text/html:<!DOCTYPE HTML PUBLIC "-//W3C//DTD HTML 3.2//E
 N"><HTML></HTML>
CREATED;TZID=America/Denver:20250722T120158
URL;VALUE=URI:https://flatheadcounty.gov/county-calendar/calendar-event-det
 ail/ashley-lake-land-use-advisory-committee-meeting-4
DTSTART;TZID=America/Denver:20250731T190000
DTEND;TZID=America/Denver:20250731T210000
SEQUENCE:0
END:VEVENT
END:VCALENDAR
