BEGIN:VCALENDAR
VERSION:2.0
PRODID:-//Sabre//Sabre VObject 4.5.8//EN
CALSCALE:GREGORIAN
BEGIN:VEVENT
UID:sabre-vobject-209b9c24-b7a4-4dda-9b3d-ec138af186d9
DTSTAMP:20260420T115641Z
SUMMARY:Kalispell Gun Show/  Northwest Montana Arms Collectors 
DESCRIPTION:
X-ALT-DESC:FMTTYPE=text/html:<!DOCTYPE HTML PUBLIC "-//W3C//DTD HTML 3.2//E
 N"><HTML></HTML>
CREATED;TZID=America/Denver:20250829T095621
URL;VALUE=URI:https://flatheadcounty.gov/county-calendar/calendar-event-det
 ail/kalispell-gun-show-northwest-montana-arms-collectors
DTSTART;TZID=America/Denver:20250905T120000
DTEND;TZID=America/Denver:20250905T180000
SEQUENCE:0
END:VEVENT
BEGIN:VEVENT
UID:sabre-vobject-953602b4-a811-4923-9050-7f2b94d41e8c
DTSTAMP:20260420T115641Z
SUMMARY:Kalispell Gun Show/  Northwest Montana Arms Collectors 
DESCRIPTION:
X-ALT-DESC:FMTTYPE=text/html:<!DOCTYPE HTML PUBLIC "-//W3C//DTD HTML 3.2//E
 N"><HTML></HTML>
CREATED;TZID=America/Denver:20250829T095621
URL;VALUE=URI:https://flatheadcounty.gov/county-calendar/calendar-event-det
 ail/kalispell-gun-show-northwest-montana-arms-collectors
DTSTART;TZID=America/Denver:20250906T090000
DTEND;TZID=America/Denver:20250906T180000
SEQUENCE:1
END:VEVENT
BEGIN:VEVENT
UID:sabre-vobject-d9ec38f7-65b8-4a67-a270-0f5204325e92
DTSTAMP:20260420T115641Z
SUMMARY:Kalispell Gun Show/  Northwest Montana Arms Collectors 
DESCRIPTION:
X-ALT-DESC:FMTTYPE=text/html:<!DOCTYPE HTML PUBLIC "-//W3C//DTD HTML 3.2//E
 N"><HTML></HTML>
CREATED;TZID=America/Denver:20250829T095621
URL;VALUE=URI:https://flatheadcounty.gov/county-calendar/calendar-event-det
 ail/kalispell-gun-show-northwest-montana-arms-collectors
DTSTART;TZID=America/Denver:20250907T090000
DTEND;TZID=America/Denver:20250907T140000
SEQUENCE:2
END:VEVENT
END:VCALENDAR
