BEGIN:VCALENDAR
VERSION:2.0
PRODID:-//Sabre//Sabre VObject 4.5.8//EN
CALSCALE:GREGORIAN
BEGIN:VEVENT
UID:sabre-vobject-34e01f80-6ece-4be3-a338-314e95fb16d5
DTSTAMP:20260420T114123Z
SUMMARY:Ducks Unlimited Banquet 
DESCRIPTION:
X-ALT-DESC:FMTTYPE=text/html:<!DOCTYPE HTML PUBLIC "-//W3C//DTD HTML 3.2//E
 N"><HTML></HTML>
CREATED;TZID=America/Denver:20250829T095915
URL;VALUE=URI:https://flatheadcounty.gov/county-calendar/calendar-event-det
 ail/ducks-unlimited-banquet-1
DTSTART;TZID=America/Denver:20250906T170000
DTEND;TZID=America/Denver:20250906T220000
SEQUENCE:0
END:VEVENT
END:VCALENDAR
