BEGIN:VCALENDAR
VERSION:2.0
PRODID:-//Sabre//Sabre VObject 4.5.8//EN
CALSCALE:GREGORIAN
BEGIN:VEVENT
UID:sabre-vobject-a660705f-8c81-41ed-8d5b-a7b83b82a629
DTSTAMP:20260420T114121Z
SUMMARY:Flathead Valley Dementia Resource Fair
DESCRIPTION:Join us for a day of support\, education\, and connection on Se
 ptember 19\, between 9 am-3 pm. Location is Canvas Church\, 255 Summit Rid
 ge Dr\, Kalispell. Learn about services and resources available in our com
 munity and hear from experts in the field. You will also be provided educa
 tional materials and helpful guides\, brochures and tools. Networking oppo
 rtunities. Respite care available on site (contact Susan Socha at 831-238-
 2883 to reserve your spot). For more info\, contact meawilliams@alz.org or
  Flathead Co. Agency on Aging at 406-758-5730.\n
X-ALT-DESC:FMTTYPE=text/html:<!DOCTYPE HTML PUBLIC "-//W3C//DTD HTML 3.2//E
 N"><HTML><p>Join us for a day of support\, education\, and connection on S
 eptember 19\, between 9 am-3 pm. Location is Canvas Church\, 255 Summit Ri
 dge Dr\, Kalispell. Learn about services and resources available in our co
 mmunity and hear from experts in the field. You will also be provided educ
 ational materials and helpful guides\, brochures and tools. Networking opp
 ortunities. Respite care available on site (contact Susan Socha at 831-238
 -2883 to reserve your spot). For more info\, contact meawilliams@alz.org o
 r Flathead Co. Agency on Aging at 406-758-5730.</p>\n</HTML>
CREATED;TZID=America/Denver:20250903T143521
URL;VALUE=URI:https://flatheadcounty.gov/county-calendar/calendar-event-det
 ail/flathead-valley-dementia-resource-fair
DTSTART;TZID=America/Denver:20250919T090500
DTEND;TZID=America/Denver:20250919T150000
SEQUENCE:0
END:VEVENT
END:VCALENDAR
