BEGIN:VCALENDAR
VERSION:2.0
PRODID:-//Sabre//Sabre VObject 4.5.8//EN
CALSCALE:GREGORIAN
BEGIN:VEVENT
UID:sabre-vobject-f0838b51-47f6-4ff7-a14c-700cd4b043eb
DTSTAMP:20260420T115711Z
SUMMARY:Walk to End Alzheimer's - Flathead Valley
DESCRIPTION:Join the Walk on Saturday\, September 20th at Lawrence Park in 
 Kalispell. Pre-event festivities begin at 10 am with the Opening &amp\; Pr
 omise Garden Ceremonies beginning at 11 am. Walk will follow. Register in 
 advance at https://act.alz.org/flathead.\n
X-ALT-DESC:FMTTYPE=text/html:<!DOCTYPE HTML PUBLIC "-//W3C//DTD HTML 3.2//E
 N"><HTML><p>Join the Walk on Saturday\, September 20th at Lawrence Park in
  Kalispell. Pre-event festivities begin at 10 am with the Opening &amp\; P
 romise Garden Ceremonies beginning at 11 am. Walk will follow. Register in
  advance at https://act.alz.org/flathead.</p>\n</HTML>
CREATED;TZID=America/Denver:20250903T154821
URL;VALUE=URI:https://flatheadcounty.gov/county-calendar/calendar-event-det
 ail/walk-end-alzheimers-flathead-valley-1
DTSTART;TZID=America/Denver:20250920T100000
DTEND;TZID=America/Denver:20250920T120000
SEQUENCE:0
END:VEVENT
END:VCALENDAR
