BEGIN:VCALENDAR
VERSION:2.0
PRODID:-//Sabre//Sabre VObject 4.5.8//EN
CALSCALE:GREGORIAN
BEGIN:VEVENT
UID:sabre-vobject-8d84d49f-419e-4086-b347-3af222f66ddf
DTSTAMP:20260420T125340Z
SUMMARY:Canceled EMS Administrative Board Meeting 
DESCRIPTION:**** Meeting moved to October 15th.\n\nMeeting of the Flathead 
 County Emergency Medical Services Administrative Board. Meeting will be he
 ld in the EOC room at OES. 625 Timberwolf Parkway\, Kalispell MT 59901.\n\
 nPlease note: Agenda will be posted prior to the meeting at OES and online
 . Agenda is subject to change. Agenda will be posted no later than 48 hour
 s prior to the meeting.&nbsp\;\n\n&nbsp\;\n
X-ALT-DESC:FMTTYPE=text/html:<!DOCTYPE HTML PUBLIC "-//W3C//DTD HTML 3.2//E
 N"><HTML><p>**** Meeting moved to October 15th.</p>\n\n<p>Meeting of the F
 lathead County Emergency Medical Services Administrative Board. Meeting wi
 ll be held in the EOC room at OES. 625 Timberwolf Parkway\, Kalispell MT 5
 9901.</p>\n\n<p>Please note: Agenda will be posted prior to the meeting at
  OES and online. Agenda is subject to change. Agenda will be posted no lat
 er than 48 hours prior to the meeting.&nbsp\;</p>\n\n<p>&nbsp\;</p>\n</HTM
 L>
CREATED;TZID=America/Denver:20250908T121553
URL;VALUE=URI:https://flatheadcounty.gov/county-calendar/calendar-event-det
 ail/ems-administrative-board-meeting-16
DTSTART;TZID=America/Denver:20250909T130000
DTEND;TZID=America/Denver:20250909T150000
SEQUENCE:0
END:VEVENT
END:VCALENDAR
