BEGIN:VCALENDAR
VERSION:2.0
PRODID:-//Sabre//Sabre VObject 4.5.8//EN
CALSCALE:GREGORIAN
BEGIN:VEVENT
UID:sabre-vobject-6cdcc7e7-2aee-4726-a5fb-8d2875d2266d
DTSTAMP:20260420T114120Z
SUMMARY:AOA Advisory Council Meeting
DESCRIPTION:The Agency on Aging Advisory Council meets on Thursday\, Septem
 ber 11\, 2025 in the South Campus Conference Room\, 40 11th ST W\, Kalispe
 ll. Please call (406) 758-5730 for more information.\n
X-ALT-DESC:FMTTYPE=text/html:<!DOCTYPE HTML PUBLIC "-//W3C//DTD HTML 3.2//E
 N"><HTML><p>The Agency on Aging Advisory Council meets on Thursday\, Septe
 mber 11\, 2025 in the South Campus Conference Room\, 40 11th ST W\, Kalisp
 ell. Please call (406) 758-5730 for more information.</p>\n</HTML>
CREATED;TZID=America/Denver:20250904T160648
URL;VALUE=URI:https://flatheadcounty.gov/county-calendar/calendar-event-det
 ail/aoa-advisory-council-meeting-8
DTSTART;TZID=America/Denver:20250911T140000
DTEND;TZID=America/Denver:20250911T153000
SEQUENCE:0
END:VEVENT
END:VCALENDAR
