BEGIN:VCALENDAR
VERSION:2.0
PRODID:-//Sabre//Sabre VObject 4.5.8//EN
CALSCALE:GREGORIAN
BEGIN:VEVENT
UID:sabre-vobject-d3d7ea60-3beb-4dc9-9b8b-b597311d90cc
DTSTAMP:20260420T115926Z
SUMMARY:Flathead County Livestock Weight Review Committee Meeting 
DESCRIPTION:
X-ALT-DESC:FMTTYPE=text/html:<!DOCTYPE HTML PUBLIC "-//W3C//DTD HTML 3.2//E
 N"><HTML></HTML>
CREATED;TZID=America/Denver:20251010T145234
URL;VALUE=URI:https://flatheadcounty.gov/county-calendar/calendar-event-det
 ail/flathead-county-livestock-weight-review-committee-meeting
DTSTART;TZID=America/Denver:20251015T100000
DTEND;TZID=America/Denver:20251015T110000
SEQUENCE:0
END:VEVENT
END:VCALENDAR
