BEGIN:VCALENDAR
VERSION:2.0
PRODID:-//Sabre//Sabre VObject 4.5.8//EN
CALSCALE:GREGORIAN
BEGIN:VEVENT
UID:sabre-vobject-d50cc215-faf8-4381-a38f-dcd79174609f
DTSTAMP:20260420T114217Z
SUMMARY:Happy Harvest Event 
DESCRIPTION:
X-ALT-DESC:FMTTYPE=text/html:<!DOCTYPE HTML PUBLIC "-//W3C//DTD HTML 3.2//E
 N"><HTML></HTML>
CREATED;TZID=America/Denver:20251021T092012
URL;VALUE=URI:https://flatheadcounty.gov/county-calendar/calendar-event-det
 ail/happy-harvest-event
DTSTART;TZID=America/Denver:20251025T090000
DTEND;TZID=America/Denver:20251025T170000
SEQUENCE:0
END:VEVENT
BEGIN:VEVENT
UID:sabre-vobject-053ccd79-46c9-4d52-8e25-9922ea0606bb
DTSTAMP:20260420T114217Z
SUMMARY:Happy Harvest Event 
DESCRIPTION:
X-ALT-DESC:FMTTYPE=text/html:<!DOCTYPE HTML PUBLIC "-//W3C//DTD HTML 3.2//E
 N"><HTML></HTML>
CREATED;TZID=America/Denver:20251021T092012
URL;VALUE=URI:https://flatheadcounty.gov/county-calendar/calendar-event-det
 ail/happy-harvest-event
DTSTART;TZID=America/Denver:20251026T100000
DTEND;TZID=America/Denver:20251026T160000
SEQUENCE:1
END:VEVENT
END:VCALENDAR
