BEGIN:VCALENDAR
VERSION:2.0
PRODID:-//Sabre//Sabre VObject 4.5.8//EN
CALSCALE:GREGORIAN
BEGIN:VEVENT
UID:sabre-vobject-5d84543b-dc9d-436d-9fcb-53ed1abc8982
DTSTAMP:20260420T114217Z
SUMMARY:Absolute Fight Factory 
DESCRIPTION:Championship Cage Fighting&nbsp\;\n
X-ALT-DESC:FMTTYPE=text/html:<!DOCTYPE HTML PUBLIC "-//W3C//DTD HTML 3.2//E
 N"><HTML><p>Championship Cage Fighting&nbsp\;</p>\n</HTML>
CREATED;TZID=America/Denver:20251014T140959
URL;VALUE=URI:https://flatheadcounty.gov/county-calendar/calendar-event-det
 ail/absolute-fight-factory-2
DTSTART;TZID=America/Denver:20251025T190000
DTEND;TZID=America/Denver:20251025T230000
SEQUENCE:0
END:VEVENT
END:VCALENDAR
