BEGIN:VCALENDAR
VERSION:2.0
PRODID:-//Sabre//Sabre VObject 4.5.8//EN
CALSCALE:GREGORIAN
BEGIN:VEVENT
UID:sabre-vobject-dde588fa-f028-4dfd-9622-961aefdafefb
DTSTAMP:20260420T114218Z
SUMMARY:Fight Fraud Friday
DESCRIPTION:Come to the Dining Room for lunch and stop by our information t
 able between 11:30 am-1:00 pm. Topic for this month is Scammers Ramp up du
 ring Open Enrollment. You can talk with Senior Medicare Patrol to learn ab
 out common Medicare scam tactics and how to protect yourself. We can also 
 answer questions about Medicare Open Enrollment. Call (406) 758-2471 for m
 ore information.&nbsp\;\n
X-ALT-DESC:FMTTYPE=text/html:<!DOCTYPE HTML PUBLIC "-//W3C//DTD HTML 3.2//E
 N"><HTML><p>Come to the Dining Room for lunch and stop by our information 
 table between 11:30 am-1:00 pm. Topic for this month is Scammers Ramp up d
 uring Open Enrollment. You can talk with Senior Medicare Patrol to learn a
 bout common Medicare scam tactics and how to protect yourself. We can also
  answer questions about Medicare Open Enrollment. Call (406) 758-2471 for 
 more information.&nbsp\;</p>\n</HTML>
CREATED;TZID=America/Denver:20251015T165917
URL;VALUE=URI:https://flatheadcounty.gov/county-calendar/calendar-event-det
 ail/fight-fraud-friday-20
DTSTART;TZID=America/Denver:20251024T113000
DTEND;TZID=America/Denver:20251024T130000
SEQUENCE:0
END:VEVENT
END:VCALENDAR
