BEGIN:VCALENDAR
VERSION:2.0
PRODID:-//Sabre//Sabre VObject 4.5.8//EN
CALSCALE:GREGORIAN
BEGIN:VEVENT
UID:sabre-vobject-d9d80d85-a16d-4e82-9da4-1b620dbc5ea2
DTSTAMP:20260420T114218Z
SUMMARY:Bigfork Land Use Advisory Committee Meeting
DESCRIPTION:
X-ALT-DESC:FMTTYPE=text/html:<!DOCTYPE HTML PUBLIC "-//W3C//DTD HTML 3.2//E
 N"><HTML></HTML>
CREATED;TZID=America/Denver:20251017T140557
URL;VALUE=URI:https://flatheadcounty.gov/county-calendar/calendar-event-det
 ail/bigfork-land-use-advisory-committee-meeting-7
DTSTART;TZID=America/Denver:20251030T160000
DTEND;TZID=America/Denver:20251030T180000
SEQUENCE:0
END:VEVENT
END:VCALENDAR
