BEGIN:VCALENDAR
VERSION:2.0
PRODID:-//Sabre//Sabre VObject 4.5.8//EN
CALSCALE:GREGORIAN
BEGIN:VEVENT
UID:sabre-vobject-bbbe1235-32db-4502-b9b6-44414ff5b21a
DTSTAMP:20260421T193141Z
SUMMARY:Regional Hazard Mitigation Plan (HMP) Annual Update Workshop
DESCRIPTION:To register for this event please click on the following link:&
 nbsp\;&nbsp\;Western MT HMP Workshop Registration\n\nRegistration closes F
 riday\, November 7th\n\nMT DES Mitigation is offering in-person MT Regiona
 l Hazard Mitigation Plan (HMP) Annual Update Workshop Sessions across the 
 state to provide technical assistance and support during this plan mainten
 ance phase. The Workshop Sessions will assist with:\n&bull\;\nRe-evaluatin
 g hazard rankings\n&bull\;\nUpdating changes in capabilities and vulnerabi
 lities\n&bull\;\nReview of the Mitigation Actions table\n&bull\;\nIdentify
 ing new areas of developments\nThe workshop is open to all stakeholders an
 d Emergency Management representatives from participating Tribes\, Countie
 s\, Cities\, and Towns. Registration will close one week before the schedu
 led workshop date.\n\nCoffee and Lunch will be provided\n\n** Please note 
 location of the workshop is subject to change due to the current Federal G
 overnment Shut Down. **\n
X-ALT-DESC:FMTTYPE=text/html:<!DOCTYPE HTML PUBLIC "-//W3C//DTD HTML 3.2//E
 N"><HTML><p>To register for this event please click on the following link:
 &nbsp\;&nbsp\;<a href="https://forms.office.com/pages/responsepage.aspx?id
 =mEypBw_zu0q9ftY_hyDcAqrCaaoaaZFAtPx9VR11ALNUMzhUME9HVE9HV0E1Q0lNWEVYS0E5W
 jdPSC4u&amp\;route=shorturl">Western MT HMP Workshop Registration</a></p>\
 n\n<p>Registration closes Friday\, November 7th</p>\n\n<p>MT DES Mitigatio
 n is offering in-person MT Regional Hazard Mitigation Plan (HMP) Annual Up
 date Workshop Sessions across the state to provide technical assistance an
 d support during this plan maintenance phase. The Workshop Sessions will a
 ssist with:<br />\n&bull\;<br />\nRe-evaluating hazard rankings<br />\n&bu
 ll\;<br />\nUpdating changes in capabilities and vulnerabilities<br />\n&b
 ull\;<br />\nReview of the Mitigation Actions table<br />\n&bull\;<br />\n
 Identifying new areas of developments<br />\nThe workshop is open to all s
 takeholders and Emergency Management representatives from participating Tr
 ibes\, Counties\, Cities\, and Towns. Registration will close one week bef
 ore the scheduled workshop date.</p>\n\n<p>Coffee and Lunch will be provid
 ed</p>\n\n<p>** Please note location of the workshop is subject to change 
 due to the current Federal Government Shut Down. **</p>\n</HTML>
CREATED;TZID=America/Denver:20251124T104602
URL;VALUE=URI:https://flatheadcounty.gov/county-calendar/calendar-event-det
 ail/regional-hazard-mitigation-plan-hmp-annual-update-workshop
DTSTART;TZID=America/Denver:20251114T100000
DTEND;TZID=America/Denver:20251114T150000
SEQUENCE:0
END:VEVENT
END:VCALENDAR
