BEGIN:VCALENDAR
VERSION:2.0
PRODID:-//Sabre//Sabre VObject 4.5.8//EN
CALSCALE:GREGORIAN
BEGIN:VEVENT
UID:sabre-vobject-00d5e9d0-c78b-4bae-a98c-b916bb919374
DTSTAMP:20260420T115747Z
SUMMARY:Ashley Lake Land Use Advisory Committee Meeting
DESCRIPTION:
X-ALT-DESC:FMTTYPE=text/html:<!DOCTYPE HTML PUBLIC "-//W3C//DTD HTML 3.2//E
 N"><HTML></HTML>
CREATED;TZID=America/Denver:20251126T083118
URL;VALUE=URI:https://flatheadcounty.gov/county-calendar/calendar-event-det
 ail/ashley-lake-land-use-advisory-committee-meeting-8
DTSTART;TZID=America/Denver:20251203T180000
DTEND;TZID=America/Denver:20251203T200000
SEQUENCE:0
END:VEVENT
END:VCALENDAR
