BEGIN:VCALENDAR
VERSION:2.0
PRODID:-//Sabre//Sabre VObject 4.5.8//EN
CALSCALE:GREGORIAN
BEGIN:VEVENT
UID:sabre-vobject-977065bf-204c-49e2-a4b0-a003e9f12071
DTSTAMP:20260421T195655Z
SUMMARY:4H Shooting Sports Invitational 
DESCRIPTION:
X-ALT-DESC:FMTTYPE=text/html:<!DOCTYPE HTML PUBLIC "-//W3C//DTD HTML 3.2//E
 N"><HTML></HTML>
CREATED;TZID=America/Denver:20260120T091125
URL;VALUE=URI:https://flatheadcounty.gov/county-calendar/calendar-event-det
 ail/4h-shooting-sports-invitational
DTSTART;TZID=America/Denver:20260124T000000
DTEND;TZID=America/Denver:20260124T235959
SEQUENCE:0
END:VEVENT
END:VCALENDAR
