BEGIN:VCALENDAR
VERSION:2.0
PRODID:-//Sabre//Sabre VObject 4.5.8//EN
CALSCALE:GREGORIAN
BEGIN:VEVENT
UID:sabre-vobject-f098c6d0-a3da-498c-a38e-d2e4fbaa49dc
DTSTAMP:20260421T193501Z
SUMMARY:FVLCC Ski Days 
DESCRIPTION:
X-ALT-DESC:FMTTYPE=text/html:<!DOCTYPE HTML PUBLIC "-//W3C//DTD HTML 3.2//E
 N"><HTML></HTML>
CREATED;TZID=America/Denver:20260120T094538
URL;VALUE=URI:https://flatheadcounty.gov/county-calendar/calendar-event-det
 ail/fvlcc-ski-days
DTSTART;TZID=America/Denver:20260130T160000
DTEND;TZID=America/Denver:20260201T170000
SEQUENCE:0
END:VEVENT
END:VCALENDAR
