BEGIN:VCALENDAR
VERSION:2.0
PRODID:-//Sabre//Sabre VObject 4.5.8//EN
CALSCALE:GREGORIAN
BEGIN:VEVENT
UID:sabre-vobject-3084c32c-461f-4876-89f5-317a28f1ca1e
DTSTAMP:20260421T193918Z
SUMMARY:Flathead Boat Show 
DESCRIPTION:
X-ALT-DESC:FMTTYPE=text/html:<!DOCTYPE HTML PUBLIC "-//W3C//DTD HTML 3.2//E
 N"><HTML></HTML>
CREATED;TZID=America/Denver:20260120T095308
URL;VALUE=URI:https://flatheadcounty.gov/county-calendar/calendar-event-det
 ail/flathead-boat-show
DTSTART;TZID=America/Denver:20260213T000000
DTEND;TZID=America/Denver:20260215T235959
SEQUENCE:0
END:VEVENT
END:VCALENDAR
