BEGIN:VCALENDAR
VERSION:2.0
PRODID:-//Sabre//Sabre VObject 4.5.8//EN
CALSCALE:GREGORIAN
BEGIN:VEVENT
UID:sabre-vobject-eb415803-2460-4862-b30c-32b64cf3e16c
DTSTAMP:20260422T052444Z
SUMMARY:Kalispell Kids Cabin Fever Days 
DESCRIPTION:
X-ALT-DESC:FMTTYPE=text/html:<!DOCTYPE HTML PUBLIC "-//W3C//DTD HTML 3.2//E
 N"><HTML></HTML>
CREATED;TZID=America/Denver:20260219T130622
URL;VALUE=URI:https://flatheadcounty.gov/county-calendar/calendar-event-det
 ail/flathead-valley-wellness-show
DTSTART;TZID=America/Denver:20260221T090000
DTEND;TZID=America/Denver:20260221T180000
SEQUENCE:0
END:VEVENT
BEGIN:VEVENT
UID:sabre-vobject-5a2e49ef-d588-4a3f-8584-f99b81945ada
DTSTAMP:20260422T052444Z
SUMMARY:Kalispell Kids Cabin Fever Days 
DESCRIPTION:
X-ALT-DESC:FMTTYPE=text/html:<!DOCTYPE HTML PUBLIC "-//W3C//DTD HTML 3.2//E
 N"><HTML></HTML>
CREATED;TZID=America/Denver:20260219T130622
URL;VALUE=URI:https://flatheadcounty.gov/county-calendar/calendar-event-det
 ail/flathead-valley-wellness-show
DTSTART;TZID=America/Denver:20260222T090000
DTEND;TZID=America/Denver:20260222T160000
SEQUENCE:1
END:VEVENT
END:VCALENDAR
