BEGIN:VCALENDAR
VERSION:2.0
PRODID:-//Sabre//Sabre VObject 4.5.8//EN
CALSCALE:GREGORIAN
BEGIN:VEVENT
UID:sabre-vobject-11f81847-a5f3-4472-8f17-3e17824b8d1d
DTSTAMP:20260421T193918Z
SUMMARY:Montana Sportsman's Expo 
DESCRIPTION:
X-ALT-DESC:FMTTYPE=text/html:<!DOCTYPE HTML PUBLIC "-//W3C//DTD HTML 3.2//E
 N"><HTML></HTML>
CREATED;TZID=America/Denver:20260120T095956
URL;VALUE=URI:https://flatheadcounty.gov/county-calendar/calendar-event-det
 ail/montana-sportsmans-expo-2
DTSTART;TZID=America/Denver:20260227T000000
DTEND;TZID=America/Denver:20260301T235959
SEQUENCE:0
END:VEVENT
END:VCALENDAR
