BEGIN:VCALENDAR
VERSION:2.0
PRODID:-//Sabre//Sabre VObject 4.5.8//EN
CALSCALE:GREGORIAN
BEGIN:VEVENT
UID:sabre-vobject-cd80ed5e-84fd-455b-a840-2b2e7b2fb2b0
DTSTAMP:20260425T040204Z
SUMMARY:Gold and Mineral Show 
DESCRIPTION:
X-ALT-DESC:FMTTYPE=text/html:<!DOCTYPE HTML PUBLIC "-//W3C//DTD HTML 3.2//E
 N"><HTML></HTML>
CREATED;TZID=America/Denver:20260310T085251
URL;VALUE=URI:https://flatheadcounty.gov/county-calendar/calendar-event-det
 ail/gold-and-mineral-show-1
DTSTART;TZID=America/Denver:20260314T090000
DTEND;TZID=America/Denver:20260314T180000
SEQUENCE:0
END:VEVENT
BEGIN:VEVENT
UID:sabre-vobject-28eb2661-1795-4fd5-a2d6-933479aa2b35
DTSTAMP:20260425T040204Z
SUMMARY:Gold and Mineral Show 
DESCRIPTION:
X-ALT-DESC:FMTTYPE=text/html:<!DOCTYPE HTML PUBLIC "-//W3C//DTD HTML 3.2//E
 N"><HTML></HTML>
CREATED;TZID=America/Denver:20260310T085251
URL;VALUE=URI:https://flatheadcounty.gov/county-calendar/calendar-event-det
 ail/gold-and-mineral-show-1
DTSTART;TZID=America/Denver:20260315T100000
DTEND;TZID=America/Denver:20260315T160000
SEQUENCE:1
END:VEVENT
END:VCALENDAR
