BEGIN:VCALENDAR
VERSION:2.0
PRODID:-//Sabre//Sabre VObject 4.5.8//EN
CALSCALE:GREGORIAN
BEGIN:VEVENT
UID:sabre-vobject-48b98ed8-d757-444b-9231-a0bbf0d78dce
DTSTAMP:20260420T030535Z
SUMMARY:2026 Special Purpose & School District Election
DESCRIPTION:
X-ALT-DESC:FMTTYPE=text/html:<!DOCTYPE HTML PUBLIC "-//W3C//DTD HTML 3.2//E
 N"><HTML></HTML>
CREATED;TZID=America/Denver:20260408T122859
URL;VALUE=URI:https://flatheadcounty.gov/county-calendar/calendar-event-det
 ail/2026-special-purpose-and-school-district-election
DTSTART;TZID=America/Denver:20260505T070000
DTEND;TZID=America/Denver:20260505T200000
SEQUENCE:0
END:VEVENT
END:VCALENDAR
