BEGIN:VCALENDAR
VERSION:2.0
PRODID:-//Sabre//Sabre VObject 4.5.8//EN
CALSCALE:GREGORIAN
BEGIN:VEVENT
UID:sabre-vobject-c5cc2e23-ba8c-48ab-920c-148477bacab1
DTSTAMP:20260422T174815Z
SUMMARY:Kalispell Flea Market 
DESCRIPTION:
X-ALT-DESC:FMTTYPE=text/html:<!DOCTYPE HTML PUBLIC "-//W3C//DTD HTML 3.2//E
 N"><HTML></HTML>
CREATED;TZID=America/Denver:20260410T101904
URL;VALUE=URI:https://flatheadcounty.gov/county-calendar/calendar-event-det
 ail/kalispell-flea-market-4
DTSTART;TZID=America/Denver:20260509T090000
DTEND;TZID=America/Denver:20260509T140000
SEQUENCE:0
END:VEVENT
END:VCALENDAR
