BEGIN:VCALENDAR
VERSION:2.0
PRODID:-//Sabre//Sabre VObject 4.5.8//EN
CALSCALE:GREGORIAN
BEGIN:VEVENT
UID:sabre-vobject-1a188de5-863c-4006-bf9d-2d909e4d8066
DTSTAMP:20260421T130424Z
SUMMARY:CANCELLED Helena Flats Land Use Advisory Committee
DESCRIPTION:
X-ALT-DESC:FMTTYPE=text/html:<!DOCTYPE HTML PUBLIC "-//W3C//DTD HTML 3.2//E
 N"><HTML></HTML>
CREATED;TZID=America/Denver:20260420T114604
URL;VALUE=URI:https://flatheadcounty.gov/county-calendar/calendar-event-det
 ail/cancelled-helena-flats-land-use-advisory-committee
DTSTART;TZID=America/Denver:20260428T193000
DTEND;TZID=America/Denver:20260428T203000
SEQUENCE:0
END:VEVENT
END:VCALENDAR
