BEGIN:VCALENDAR
VERSION:2.0
PRODID:-//Sabre//Sabre VObject 4.5.8//EN
CALSCALE:GREGORIAN
BEGIN:VEVENT
UID:sabre-vobject-516d4f90-64bf-43a2-b1c8-d78175e54be3
DTSTAMP:20260420T113750Z
SUMMARY:National 911 Public Safety Telecom Appreciation Week
DESCRIPTION:
X-ALT-DESC:FMTTYPE=text/html:<!DOCTYPE HTML PUBLIC "-//W3C//DTD HTML 3.2//E
 N"><HTML></HTML>
CREATED;TZID=America/Denver:20230327T120837
URL;VALUE=URI:https://flatheadcounty.gov/county-calendar/calendar-event-det
 ail/national-911-public-safety-telecom-appreciation-week
DTSTART;TZID=America/Denver:20230410T000000
DTEND;TZID=America/Denver:20230414T235959
SEQUENCE:0
END:VEVENT
END:VCALENDAR
