BEGIN:VCALENDAR
VERSION:2.0
PRODID:-//Sabre//Sabre VObject 4.5.8//EN
CALSCALE:GREGORIAN
BEGIN:VEVENT
UID:sabre-vobject-5c98ca7b-e8fc-45d0-ab64-1a95a51d4b8b
DTSTAMP:20260420T081234Z
SUMMARY:Election Day
DESCRIPTION:Special Purpose District Elections\n
X-ALT-DESC:FMTTYPE=text/html:<!DOCTYPE HTML PUBLIC "-//W3C//DTD HTML 3.2//E
 N"><HTML><p>Special Purpose District Elections</p>\n</HTML>
CREATED;TZID=America/Denver:20230620T095454
URL;VALUE=URI:https://flatheadcounty.gov/county-calendar/calendar-event-det
 ail/special
DTSTART;TZID=America/Denver:20230502T070000
DTEND;TZID=America/Denver:20230502T200000
SEQUENCE:0
END:VEVENT
END:VCALENDAR
