BEGIN:VCALENDAR
VERSION:2.0
PRODID:-//Sabre//Sabre VObject 4.5.8//EN
CALSCALE:GREGORIAN
BEGIN:VEVENT
UID:sabre-vobject-7edb4767-28ac-4e52-a9d2-6468fbfd1646
DTSTAMP:20260420T113410Z
SUMMARY:Flathead Elder Hub
DESCRIPTION:
X-ALT-DESC:FMTTYPE=text/html:<!DOCTYPE HTML PUBLIC "-//W3C//DTD HTML 3.2//E
 N"><HTML></HTML>
CREATED;TZID=America/Denver:20230406T160650
URL;VALUE=URI:https://flatheadcounty.gov/county-calendar/calendar-event-det
 ail/flathead-elder-hub-1
DTSTART;TZID=America/Denver:20230427T160000
DTEND;TZID=America/Denver:20230427T170000
SEQUENCE:0
END:VEVENT
END:VCALENDAR
