BEGIN:VCALENDAR
VERSION:2.0
PRODID:-//Sabre//Sabre VObject 4.5.8//EN
CALSCALE:GREGORIAN
BEGIN:VEVENT
UID:sabre-vobject-b27358be-e18a-4d4e-871c-ed8f86ed7754
DTSTAMP:20260420T115411Z
SUMMARY:West Valley Land Use Advisory Committee (WV LUAC) Meeting
DESCRIPTION:
X-ALT-DESC:FMTTYPE=text/html:<!DOCTYPE HTML PUBLIC "-//W3C//DTD HTML 3.2//E
 N"><HTML></HTML>
CREATED;TZID=America/Denver:20230413T133136
URL;VALUE=URI:https://flatheadcounty.gov/county-calendar/calendar-event-det
 ail/west-valley-land-use-advisory-committee-wv-luac-meeting-2
DTSTART;TZID=America/Denver:20230425T060000
DTEND;TZID=America/Denver:20230425T220000
SEQUENCE:0
END:VEVENT
END:VCALENDAR
