BEGIN:VCALENDAR
VERSION:2.0
PRODID:-//Sabre//Sabre VObject 4.5.8//EN
CALSCALE:GREGORIAN
BEGIN:VEVENT
UID:sabre-vobject-6ac9b2c5-1991-47fd-b815-9092c49c1ac5
DTSTAMP:20260420T115009Z
SUMMARY:Bigfork Land Use Advisory Committee (BLUAC) Meeting
DESCRIPTION:
X-ALT-DESC:FMTTYPE=text/html:<!DOCTYPE HTML PUBLIC "-//W3C//DTD HTML 3.2//E
 N"><HTML></HTML>
CREATED;TZID=America/Denver:20230418T125646
URL;VALUE=URI:https://flatheadcounty.gov/county-calendar/calendar-event-det
 ail/bigfork-land-use-advisory-committee-bluac-meeting-1
DTSTART;TZID=America/Denver:20230427T160000
DTEND;TZID=America/Denver:20230427T200500
SEQUENCE:0
END:VEVENT
END:VCALENDAR
