BEGIN:VCALENDAR
VERSION:2.0
PRODID:-//Sabre//Sabre VObject 4.5.8//EN
CALSCALE:GREGORIAN
BEGIN:VEVENT
UID:sabre-vobject-871be12e-145a-4ec0-994a-d6ddaa40ca74
DTSTAMP:20260420T153320Z
SUMMARY:406 Consignary
DESCRIPTION:Come shop thousands&nbsp\;of amazing name-brand and boutique&nb
 sp\;items!\n
X-ALT-DESC:FMTTYPE=text/html:<!DOCTYPE HTML PUBLIC "-//W3C//DTD HTML 3.2//E
 N"><HTML><p>Come shop thousands&nbsp\;of amazing name-brand and boutique&n
 bsp\;items!</p>\n</HTML>
CREATED;TZID=America/Denver:20240426T133819
URL;VALUE=URI:https://flatheadcounty.gov/county-calendar/calendar-event-det
 ail/406-consignary-1
DTSTART;TZID=America/Denver:20240427T100000
DTEND;TZID=America/Denver:20240427T170000
SEQUENCE:0
END:VEVENT
BEGIN:VEVENT
UID:sabre-vobject-fe20bd39-de81-4efe-a9c6-d8f7ceb58c15
DTSTAMP:20260420T153320Z
SUMMARY:406 Consignary
DESCRIPTION:Come shop thousands&nbsp\;of amazing name-brand and boutique&nb
 sp\;items!\n
X-ALT-DESC:FMTTYPE=text/html:<!DOCTYPE HTML PUBLIC "-//W3C//DTD HTML 3.2//E
 N"><HTML><p>Come shop thousands&nbsp\;of amazing name-brand and boutique&n
 bsp\;items!</p>\n</HTML>
CREATED;TZID=America/Denver:20240426T133819
URL;VALUE=URI:https://flatheadcounty.gov/county-calendar/calendar-event-det
 ail/406-consignary-1
DTSTART;TZID=America/Denver:20240428T100000
DTEND;TZID=America/Denver:20240428T140000
SEQUENCE:1
END:VEVENT
END:VCALENDAR
