BEGIN:VCALENDAR
VERSION:2.0
PRODID:-//Sabre//Sabre VObject 4.5.8//EN
CALSCALE:GREGORIAN
BEGIN:VEVENT
UID:sabre-vobject-2bc43326-4c86-44c1-940e-4007c3120727
DTSTAMP:20260420T113647Z
SUMMARY:406 Voice
DESCRIPTION:&nbsp\;The 406 Voice Competition is a fundraising event\n\nbene
 fiting The Ray Of Hope. Come out and support this group that helps so many
 \n\nfamilies in the Flathead. The 406 Voice is returning from a Hiatus and
  brings the\n\nkaraoke community together for an amazing night and a one o
 f a kind event! After\n\nqualifying and winning the semi-finals at partici
 pating karaoke venues\, the finals\n\nwill be held April 15th\, 2023 at Th
 e Flathead County Fairgrounds Expo Building\n\n7PM. A Cash prize will be a
 warded to the champion. Live music from The 406\n\nVoice Band along with s
 pecial guests\, silent auction and more! For more\n\ninformation go to&nbs
 p\;www.The406voice.com\n\n&nbsp\;\n\nFor questions and interviews please c
 ontact:\n\nGreg Jordan\n\nPromotions/Talent\n\n406.261.4393 - Cell\n\ngreg
 @andersonbroadcasting.com\n\nwww.andersonbroadcasting.com\n
X-ALT-DESC:FMTTYPE=text/html:<!DOCTYPE HTML PUBLIC "-//W3C//DTD HTML 3.2//E
 N"><HTML><p>&nbsp\;The 406 Voice Competition is a fundraising event</p>\n\
 n<p>benefiting The Ray Of Hope. Come out and support this group that helps
  so many</p>\n\n<p>families in the Flathead. The 406 Voice is returning fr
 om a Hiatus and brings the</p>\n\n<p>karaoke community together for an ama
 zing night and a one of a kind event! After</p>\n\n<p>qualifying and winni
 ng the semi-finals at participating karaoke venues\, the finals</p>\n\n<p>
 will be held April 15th\, 2023 at The Flathead County Fairgrounds Expo Bui
 lding</p>\n\n<p>7PM. A Cash prize will be awarded to the champion. Live mu
 sic from The 406</p>\n\n<p>Voice Band along with special guests\, silent a
 uction and more! For more</p>\n\n<p>information go to&nbsp\;<a href="http:
 //www.the406voice.com/" rel="noreferrer noopener" target="_blank">www.The4
 06voice.com</a></p>\n\n<p>&nbsp\;</p>\n\n<p>For questions and interviews p
 lease contact:</p>\n\n<p>Greg Jordan</p>\n\n<p>Promotions/Talent</p>\n\n<p
 >406.261.4393 - Cell</p>\n\n<p><a href="mailto:greg@andersonbroadcasting.c
 om" target="_self">greg@andersonbroadcasting.com</a></p>\n\n<p><a href="ht
 tp://www.andersonbroadcasting.com/" rel="noreferrer noopener" target="_bla
 nk">www.andersonbroadcasting.com</a></p>\n</HTML>
CREATED;TZID=America/Denver:20230412T143950
URL;VALUE=URI:https://flatheadcounty.gov/county-calendar/calendar-event-det
 ail/406-voice
DTSTART;TZID=America/Denver:20230415T190000
DTEND;TZID=America/Denver:20230415T220000
SEQUENCE:0
END:VEVENT
END:VCALENDAR
