BEGIN:VCALENDAR
VERSION:2.0
PRODID:-//Sabre//Sabre VObject 4.5.8//EN
CALSCALE:GREGORIAN
BEGIN:VEVENT
UID:sabre-vobject-39569a97-fb2d-42c0-a3ce-2b83b2d816e8
DTSTAMP:20260420T125201Z
SUMMARY:Blue Ribbon Event
DESCRIPTION:April is Child Abuse Prevention Month. Blue Ribbons and blue pi
 nwheels stand as symbols of a stand to end child abuse. On April 21st\, Th
 e Nurturing Center will hold its Annual Blue Ribbon at the Pavilion in Law
 rence Park from 4pm to 6pm. &nbsp\;This event is family friendly and total
 ly FREE to everyone. &nbsp\;We will have food\, live music\, games\, fun a
 nd resources!\n
X-ALT-DESC:FMTTYPE=text/html:<!DOCTYPE HTML PUBLIC "-//W3C//DTD HTML 3.2//E
 N"><HTML><p>April is Child Abuse Prevention Month. Blue Ribbons and blue p
 inwheels stand as symbols of a stand to end child abuse. On April 21<sup>s
 t</sup>\, The Nurturing Center will hold its Annual Blue Ribbon at the Pav
 ilion in Lawrence Park from 4pm to 6pm. &nbsp\;This event is family friend
 ly and totally FREE to everyone. &nbsp\;We will have food\, live music\, g
 ames\, fun and resources!</p>\n</HTML>
CREATED;TZID=America/Denver:20230412T155805
URL;VALUE=URI:https://flatheadcounty.gov/county-calendar/calendar-event-det
 ail/blue-ribbon-event
DTSTART;TZID=America/Denver:20230427T160000
DTEND;TZID=America/Denver:20230427T180000
SEQUENCE:0
END:VEVENT
END:VCALENDAR
