BEGIN:VCALENDAR
VERSION:2.0
PRODID:-//Sabre//Sabre VObject 4.5.8//EN
CALSCALE:GREGORIAN
BEGIN:VEVENT
UID:sabre-vobject-f0a04771-dd14-4fa9-b82b-be61d49d0ec4
DTSTAMP:20260420T113546Z
SUMMARY:Weed/Parks & Recreation Board Meeting
DESCRIPTION:
X-ALT-DESC:FMTTYPE=text/html:<!DOCTYPE HTML PUBLIC "-//W3C//DTD HTML 3.2//E
 N"><HTML></HTML>
CREATED;TZID=America/Denver:20230427T095023
URL;VALUE=URI:https://flatheadcounty.gov/county-calendar/calendar-event-det
 ail/weedparks-and-recreation-board-meeting-5
DTSTART;TZID=America/Denver:20230501T083000
DTEND;TZID=America/Denver:20230501T103000
SEQUENCE:0
END:VEVENT
END:VCALENDAR
