BEGIN:VCALENDAR
VERSION:2.0
PRODID:-//Sabre//Sabre VObject 4.5.8//EN
CALSCALE:GREGORIAN
BEGIN:VEVENT
UID:sabre-vobject-26bfaef8-67c2-4324-b6f5-5fe1389abeca
DTSTAMP:20260420T113544Z
SUMMARY:Public Testing for Expressvotes
DESCRIPTION:
X-ALT-DESC:FMTTYPE=text/html:<!DOCTYPE HTML PUBLIC "-//W3C//DTD HTML 3.2//E
 N"><HTML></HTML>
CREATED;TZID=America/Denver:20230420T104524
URL;VALUE=URI:https://flatheadcounty.gov/county-calendar/calendar-event-det
 ail/public-testing-expressvotes
DTSTART;TZID=America/Denver:20230426T130000
DTEND;TZID=America/Denver:20230426T143000
SEQUENCE:0
END:VEVENT
END:VCALENDAR
