BEGIN:VCALENDAR
VERSION:2.0
PRODID:-//Sabre//Sabre VObject 4.5.8//EN
CALSCALE:GREGORIAN
BEGIN:VEVENT
UID:sabre-vobject-d9ce363f-8489-42e7-8ada-84bc0c5ef6aa
DTSTAMP:20260420T115003Z
SUMMARY:Logan Health Spring Into Saftey
DESCRIPTION:The seventh annual Spring Into Safety Kid&#39\;s Day will take 
 place on Saturday\, May 20\, from 11 a.m. to 3 p.m.\, at the Trade Center 
 at Northwest Montana Fairgrounds. The event is free and open to the whole 
 family.\n\nOrganizers will give away more than 1\,000 kids&#39\; bicycle h
 elmets\, courtesy of Flathead Electric&#39\;s Roundup for Safety program.\
 n\nBring your bikes for a maintenance check and try out the road safety co
 urse. Car seat safety checks will also be provided. In addition\, there wi
 ll be fun kids activities.\n\nBoth the A.L.E.R.T. and Two Bear Air helicop
 ters and crews will be present at the event\, as well as local police\, fi
 re\, emergency services\, and search and rescue. More than 30 community pr
 ograms will be on hand to showcase what they do for local kids and familie
 s.\n\n&nbsp\;\n
X-ALT-DESC:FMTTYPE=text/html:<!DOCTYPE HTML PUBLIC "-//W3C//DTD HTML 3.2//E
 N"><HTML><p dir="ltr">The seventh annual Spring Into Safety Kid&#39\;s Day
  will take place on Saturday\, May 20\, from 11 a.m. to 3 p.m.\, at the Tr
 ade Center at Northwest Montana Fairgrounds. The event is free and open to
  the whole family.</p>\n\n<p dir="ltr">Organizers will give away more than
  1\,000 kids&#39\; bicycle helmets\, courtesy of Flathead Electric&#39\;s 
 Roundup for Safety program.</p>\n\n<p dir="ltr">Bring your bikes for a mai
 ntenance check and try out the road safety course. Car seat safety checks 
 will also be provided. In addition\, there will be fun kids activities.</p
 >\n\n<p dir="ltr">Both the A.L.E.R.T. and Two Bear Air helicopters and cre
 ws will be present at the event\, as well as local police\, fire\, emergen
 cy services\, and search and rescue. More than 30 community programs will 
 be on hand to showcase what they do for local kids and families.</p>\n\n<p
 >&nbsp\;</p>\n</HTML>
CREATED;TZID=America/Denver:20230501T140254
URL;VALUE=URI:https://flatheadcounty.gov/county-calendar/calendar-event-det
 ail/logan-health-spring-saftey
DTSTART;TZID=America/Denver:20230520T110000
DTEND;TZID=America/Denver:20230520T150000
SEQUENCE:0
END:VEVENT
END:VCALENDAR
