BEGIN:VCALENDAR
VERSION:2.0
PRODID:-//Sabre//Sabre VObject 4.5.8//EN
CALSCALE:GREGORIAN
BEGIN:VEVENT
UID:sabre-vobject-253cf677-bcae-4d8a-b8f7-dd0d83e2f98c
DTSTAMP:20260420T113538Z
SUMMARY:AOA Advisory Council Meeting
DESCRIPTION:The Agency on Aging Advisory Council meets Thursday\, May 11\, 
 from 2:00-3:30 pm in the South Campus Conference Room. The public is welco
 me. Call 406-758-5730 for more information.\n
X-ALT-DESC:FMTTYPE=text/html:<!DOCTYPE HTML PUBLIC "-//W3C//DTD HTML 3.2//E
 N"><HTML><p>The Agency on Aging Advisory Council meets Thursday\, May 11\,
  from 2:00-3:30 pm in the South Campus Conference Room. The public is welc
 ome. Call 406-758-5730 for more information.</p>\n</HTML>
CREATED;TZID=America/Denver:20230502T152521
URL;VALUE=URI:https://flatheadcounty.gov/county-calendar/calendar-event-det
 ail/aoa-advisory-council-meeting-3
DTSTART;TZID=America/Denver:20230511T130000
DTEND;TZID=America/Denver:20230511T153000
SEQUENCE:0
END:VEVENT
END:VCALENDAR
