BEGIN:VCALENDAR
VERSION:2.0
PRODID:-//Sabre//Sabre VObject 4.5.8//EN
CALSCALE:GREGORIAN
BEGIN:VEVENT
UID:sabre-vobject-e33707ee-2ae3-4812-95a8-f28cdf87feb5
DTSTAMP:20260420T113350Z
SUMMARY:FECC Operations Board Meeting
DESCRIPTION:
X-ALT-DESC:FMTTYPE=text/html:<!DOCTYPE HTML PUBLIC "-//W3C//DTD HTML 3.2//E
 N"><HTML></HTML>
CREATED;TZID=America/Denver:20230515T165047
URL;VALUE=URI:https://flatheadcounty.gov/county-calendar/calendar-event-det
 ail/fecc-operations-board-meeting-1
DTSTART;TZID=America/Denver:20230518T130000
DTEND;TZID=America/Denver:20230518T140000
SEQUENCE:0
END:VEVENT
END:VCALENDAR
