BEGIN:VCALENDAR
VERSION:2.0
PRODID:-//Sabre//Sabre VObject 4.5.8//EN
CALSCALE:GREGORIAN
BEGIN:VEVENT
UID:sabre-vobject-8a915f6e-736d-4001-b3f6-428bc083eae2
DTSTAMP:20260420T115009Z
SUMMARY:Older Americans Month: My Glacier Village
DESCRIPTION:
X-ALT-DESC:FMTTYPE=text/html:<!DOCTYPE HTML PUBLIC "-//W3C//DTD HTML 3.2//E
 N"><HTML></HTML>
CREATED;TZID=America/Denver:20230517T123025
URL;VALUE=URI:https://flatheadcounty.gov/county-calendar/calendar-event-det
 ail/older-americans-month-my-glacier-village
DTSTART;TZID=America/Denver:20230523T113000
DTEND;TZID=America/Denver:20230523T130000
SEQUENCE:0
END:VEVENT
END:VCALENDAR
