BEGIN:VCALENDAR
VERSION:2.0
PRODID:-//Sabre//Sabre VObject 4.5.8//EN
CALSCALE:GREGORIAN
BEGIN:VEVENT
UID:sabre-vobject-30cdad18-cf0b-4c85-bc2f-e660ff8924d8
DTSTAMP:20260420T083221Z
SUMMARY:Older Americans Month: Land to Hand MT
DESCRIPTION:
X-ALT-DESC:FMTTYPE=text/html:<!DOCTYPE HTML PUBLIC "-//W3C//DTD HTML 3.2//E
 N"><HTML></HTML>
CREATED;TZID=America/Denver:20230517T123253
URL;VALUE=URI:https://flatheadcounty.gov/county-calendar/calendar-event-det
 ail/older-americans-month-land-hand-mt
DTSTART;TZID=America/Denver:20230524T113000
DTEND;TZID=America/Denver:20230524T130000
SEQUENCE:0
END:VEVENT
END:VCALENDAR
