BEGIN:VCALENDAR
VERSION:2.0
PRODID:-//Sabre//Sabre VObject 4.5.8//EN
CALSCALE:GREGORIAN
BEGIN:VEVENT
UID:sabre-vobject-0d81ebf8-4408-4c12-95b7-927ddd2167cf
DTSTAMP:20260420T075858Z
SUMMARY:Library Board of Trustees Meeting
DESCRIPTION:
X-ALT-DESC:FMTTYPE=text/html:<!DOCTYPE HTML PUBLIC "-//W3C//DTD HTML 3.2//E
 N"><HTML></HTML>
CREATED;TZID=America/Denver:20230619T120354
URL;VALUE=URI:https://flatheadcounty.gov/county-calendar/calendar-event-det
 ail/library-board-trustees-meeting-4
DTSTART;TZID=America/Denver:20230622T183000
DTEND;TZID=America/Denver:20230622T213000
SEQUENCE:0
END:VEVENT
END:VCALENDAR
