BEGIN:VCALENDAR
VERSION:2.0
PRODID:-//Sabre//Sabre VObject 4.5.8//EN
CALSCALE:GREGORIAN
BEGIN:VEVENT
UID:sabre-vobject-e00ebf48-3b55-45b1-af6a-90116004ea07
DTSTAMP:20260420T115035Z
SUMMARY:Montana Royal Livestock Show
DESCRIPTION:
X-ALT-DESC:FMTTYPE=text/html:<!DOCTYPE HTML PUBLIC "-//W3C//DTD HTML 3.2//E
 N"><HTML></HTML>
CREATED;TZID=America/Denver:20230620T122531
URL;VALUE=URI:https://flatheadcounty.gov/county-calendar/calendar-event-det
 ail/montana-royal-livestock-show
DTSTART;TZID=America/Denver:20230722T000000
DTEND;TZID=America/Denver:20230722T235959
SEQUENCE:0
END:VEVENT
BEGIN:VEVENT
UID:sabre-vobject-29e32937-ea63-49d7-8358-ddf0d9354133
DTSTAMP:20260420T115035Z
SUMMARY:Montana Royal Livestock Show
DESCRIPTION:
X-ALT-DESC:FMTTYPE=text/html:<!DOCTYPE HTML PUBLIC "-//W3C//DTD HTML 3.2//E
 N"><HTML></HTML>
CREATED;TZID=America/Denver:20230620T122531
URL;VALUE=URI:https://flatheadcounty.gov/county-calendar/calendar-event-det
 ail/montana-royal-livestock-show
DTSTART;TZID=America/Denver:20230723T000000
DTEND;TZID=America/Denver:20230723T235959
SEQUENCE:1
END:VEVENT
END:VCALENDAR
